BEGIN:VCALENDAR
VERSION:2.0
PRODID:-//Midori Cleaning - ECPv6.2.9//NONSGML v1.0//EN
CALSCALE:GREGORIAN
METHOD:PUBLISH
X-ORIGINAL-URL:https://midoricleaning.ca
X-WR-CALDESC:Events for Midori Cleaning
REFRESH-INTERVAL;VALUE=DURATION:PT1H
X-Robots-Tag:noindex
X-PUBLISHED-TTL:PT1H
BEGIN:VTIMEZONE
TZID:UTC
BEGIN:STANDARD
TZOFFSETFROM:+0000
TZOFFSETTO:+0000
TZNAME:UTC
DTSTART:20190101T000000
END:STANDARD
END:VTIMEZONE
BEGIN:VEVENT
DTSTART;VALUE=DATE:20191111
DTEND;VALUE=DATE:20200212
DTSTAMP:20260423T174555
CREATED:20140731T003401Z
LAST-MODIFIED:20140731T003401Z
UID:8708-1573430400-1581465599@midoricleaning.ca
SUMMARY:Top 10 Move in Tips
DESCRIPTION:Event description\n	\n	We all know moving houses can be a total nightmare. Here at Clany a lot of customers come to us for home services to make their lives easier when they are moving.  \nBut how do you make the actual move less stressful? \nWe invited our friends at FlatRate Moving\, one of the leading full-service moving companies\, to give us their Top Ten tips on how to make your move just a little bit easier…” \n	Course Outline : \n◎ Make a List\n◎ Start Early\n◎ Paper Trail\n◎ Buy Those Tall Hanging Boxes for Your Nice Clothes\n◎ Check Those References\n◎ Hire Cleaners to Make Your New Place Spotless\n◎ Dip Into Your Charitable Side\n	General Overview: \n◎ Organize Those Boxes\n◎ Make Use of Everything\n◎ Pack Your Kitchen Smart
URL:https://midoricleaning.ca/classes/top-10-move-in-tips/
LOCATION:New York Ardesia Bar\, Lexington Avenue\, New York\, NY\, 10022\, United States
CATEGORIES:Commercial,Design,Engineering
ATTACH;FMTTYPE=image/jpeg:https://midoricleaning.ca/wp-content/uploads/2014/03/photo-12.jpg
ORGANIZER;CN="Michael":MAILTO:junk@vamtam.com
END:VEVENT
BEGIN:VEVENT
DTSTART;TZID=UTC:20191110T080000
DTEND;TZID=UTC:20200831T090000
DTSTAMP:20260423T174555
CREATED:20140731T003656Z
LAST-MODIFIED:20140731T003656Z
UID:8179-1573372800-1598864400@midoricleaning.ca
SUMMARY:Creating Studio Space and Style
DESCRIPTION:Event description\n	\n	Get some super stylish inspiration for making the most of small spaces. Whether you’re all about studio living in the city\, or have a small space in your home that could do with a refresh\, it’s amazing what a clever choice of paint color\, furnishings and decor can do to create a sense of space. \nIt’s easy to think of studio apartments as one big compromise. You can’t buy everything your heart desires\, let along fit it all into the space. But these apartments show that living in one room is enough – you can have everything you need\, and it can come in a stylish package with some carefully chosen decor and smart storage decisions. \n	By the end of this 3-month interactive live online course you will learn how to: \n◎ Use feature furniture\n◎ Try neutral colors with bold prints\n◎ Raise your bed\n◎ Storage in every square inch\n◎ Be clever with your corners\n◎ Double up your decor\n◎ Learn and apply good maintenance practices
URL:https://midoricleaning.ca/classes/creating-studio-space-and-style/
LOCATION:New York Ardesia Bar\, Lexington Avenue\, New York\, NY\, 10022\, United States
CATEGORIES:Cleaning,Commercial,Workshops
ATTACH;FMTTYPE=image/jpeg:https://midoricleaning.ca/wp-content/uploads/2014/03/photo-13.jpg
ORGANIZER;CN="Michael & Ashley":MAILTO:junk@vamtam.com
END:VEVENT
BEGIN:VEVENT
DTSTART;VALUE=DATE:20191109
DTEND;VALUE=DATE:20200310
DTSTAMP:20260423T174555
CREATED:20140731T003656Z
LAST-MODIFIED:20140731T003656Z
UID:8178-1573257600-1583798399@midoricleaning.ca
SUMMARY:Common Home Maintenance Myths
DESCRIPTION:Event description\n	\n	We’ve seen a thing or two when it comes to the cleanliness of homes. Read below to find out the most commonly overlooked areas in the kitchen & learn how to quickly clean them. \n\n	Programme structure\n	\n	Your Neglected Dish Rack \nSponges \nThe Microwave \nThe Garbage Disposal & Sink Drain
URL:https://midoricleaning.ca/classes/common-home-maintenance-myths/
LOCATION:New York Ardesia Bar\, Lexington Avenue\, New York\, NY\, 10022\, United States
CATEGORIES:Cleaning,Commercial,Design,Engineering
ATTACH;FMTTYPE=image/jpeg:https://midoricleaning.ca/wp-content/uploads/2010/04/photo-16.jpg
ORGANIZER;CN="Michael & Ashley":MAILTO:junk@vamtam.com
END:VEVENT
BEGIN:VEVENT
DTSTART;VALUE=DATE:20191101
DTEND;VALUE=DATE:20200502
DTSTAMP:20260423T174555
CREATED:20140731T003401Z
LAST-MODIFIED:20140731T003401Z
UID:9292-1572566400-1588377599@midoricleaning.ca
SUMMARY:Clean & Stylish Holiday Decoration
DESCRIPTION:Event description\n	\n	It’s easy to get overexcited this time of year and leave your home looking like the tinsel section of a Christmas store. But don’t worry\, this year help is at hand. In this\, the first of our exclusive content series from this course\, get some sleek and sophisticated holiday decoration ideas\, and leave that tinsel back in the drawer where it belongs. \n\n	Programme structure\n	\n	The module is based around five themes:  \n◎Lighting is everything\n◎Keep the color scheme simple\n◎Simple wreaths inside and out\n◎Use natural foliage and greenery for your table decorations\n◎Go gold!
URL:https://midoricleaning.ca/classes/clean-stylish-holiday-decoration/
LOCATION:New York Ardesia Bar\, Lexington Avenue\, New York\, NY\, 10022\, United States
CATEGORIES:Commercial,Engineering,Management,Workshops
ATTACH;FMTTYPE=image/jpeg:https://midoricleaning.ca/wp-content/uploads/2014/03/photo-14.jpg
ORGANIZER;CN="Michael":MAILTO:junk@vamtam.com
END:VEVENT
END:VCALENDAR